BEGIN:VCALENDAR
VERSION:2.0
PRODID:-//eventon.com NONSGML v1.0//EN
CALSCALE:GREGORIAN
METHOD:PUBLISH
BEGIN:VEVENT
UID:69e9444681037
DTSTAMP:20260422T215726Z
DTSTART:20230708T143000Z
DTEND:20230708T180000Z
LOCATION:Sportplatz Waldhausen B27\,  74722 Buchen
SUMMARY:Game of Thrones - Gaudispiele um den Thron
DESCRIPTION:Bereits zum fünften Mal werden in diesem Jahr in Waldhausen di
 e Game of Thrones - die Gaudispiele um den Thron ausgetragen. Am 08. Juli\,
   um 16.30 Uhr\,  wird es wieder heißen\,  lasset die Spiele beginnen. Um 
 beim Kampf um den goldenen Thron dabei zu sein\,  schickt uns zur Anmeldung
  einfach[..]\nhttps://www.nokzeit.de/events/game-of-thrones-die-gaudispiele
 -um-den-thron/
URL:https://www.nokzeit.de/events/game-of-thrones-die-gaudispiele-um-den-thron/
END:VEVENT
END:VCALENDAR