BEGIN:VCALENDAR
VERSION:2.0
PRODID:-//eventon.com NONSGML v1.0//EN
CALSCALE:GREGORIAN
METHOD:PUBLISH
BEGIN:VEVENT
UID:69e75ebc9087c
DTSTAMP:20260421T112548Z
DTSTART:20250926T150000Z
DTEND:20250926T160000Z
LOCATION:Gasthaus JÃ¤gerstube Obrigheim LangenrainstraÃŸe 24\,  74847 Obrigheim
SUMMARY:BÃ¼rgertreff  mit Thorsten Sienholz
DESCRIPTION:(Foto: pm) Thorsten Sienholz lÃ¤dt zu BÃ¼rgertreffs in allen dr
 ei Ortsteilen Obrigheim. In der letzten Woche vor der BÃ¼rgermeisterwahl lÃ
 ¤dt der 35-jÃ¤hrige Bewerber Thorsten Sienholz zu seinen letzten BÃ¼rgertre
 ffs in allen drei Ortsteilen ein. Am Montag steht er in MÃ¶rtelstein im eva
 ngelischen Gemeindehaus (TalstraÃŸe 31)\,  am Mittwoch in Asbach im[..]\nht
 tps://www.nokzeit.de/events/buergertreff-mit-thorsten-sienholz-3/
URL:https://www.nokzeit.de/events/buergertreff-mit-thorsten-sienholz-3/
END:VEVENT
END:VCALENDAR