BEGIN:VCALENDAR
VERSION:2.0
PRODID:-//eventon.com NONSGML v1.0//EN
CALSCALE:GREGORIAN
METHOD:PUBLISH
BEGIN:VEVENT
UID:69ecb87f86cf7
DTSTAMP:20260425T125007Z
DTSTART:20260428T163000Z
DTEND:20260428T215900Z
LOCATION:Dorfgemeinschaftshaus Reichenbuch Schulstraße 20\,  74821 Mosbach-Reichenbuch
SUMMARY:Ortschaftsratssitzung Reichenbuch
DESCRIPTION:Am Dienstag\,  den 28. April\,  um 18:30 Uhr\,  findet im Reich
 enbucher Dorfgemeinschaftshaus eine öffentliche Ortschaftsratssitzung stat
 t\,  zu der die Bürgerinnen und Bürger eingeladen sind. Auf der Tagesordn
 ung stehen folgende Punkte: Bürgerfragestunde; Mitteilungen und Anfragen; 
 Sachstand Feuerwehrgerätehaus; Bücherschrank; Fahrradwegenetz Mosbach-Rei
 chenbuch und Verschiedenes.\nhttps://www.nokzeit.de/events/ortschaftsratssi
 tzung-reichenbuch-2/
URL:https://www.nokzeit.de/events/ortschaftsratssitzung-reichenbuch-2/
END:VEVENT
END:VCALENDAR