BEGIN:VCALENDAR
VERSION:2.0
PRODID:-//eventon.com NONSGML v1.0//EN
CALSCALE:GREGORIAN
METHOD:PUBLISH
BEGIN:VEVENT
UID:69e561d2e3eb3
DTSTAMP:20260419T231426Z
DTSTART:20260422T160000Z
DTEND:20260422T180000Z
LOCATION:Ambulanter Pflegedienst Hand in Hand Walldürner Str. 5\,  Buchen (Odenwald)\,  NOK 74722\,  DE
SUMMARY:Info-Abend zum neuen dualen Studiengang Pflege
DESCRIPTION:Wir informieren euch kostenlos und unverbindlich über den neue
 n Studiengang – meldet euch per Mail oder Telefon an an und kommt am komm
 enden Mittwoch\,  den 22. April\,  um 18:00 Uhr\,  Walldürner Straße 5\, 
  74722 Buchen 06281 56 56 858 info@pflegehih.de\nhttps://www.nokzeit.de/eve
 nts/22-april-2026-info-abend-zum-neuen-dualen-studiengang-pflege/
URL:https://www.nokzeit.de/events/22-april-2026-info-abend-zum-neuen-dualen-studiengang-pflege/
END:VEVENT
END:VCALENDAR